BEGIN:VCALENDAR
VERSION:2.0
PRODID:-//National Association of Securities Professionals (NASP) - ECPv6.15.20//NONSGML v1.0//EN
CALSCALE:GREGORIAN
METHOD:PUBLISH
X-ORIGINAL-URL:https://nasphq.org
X-WR-CALDESC:Events for National Association of Securities Professionals (NASP)
REFRESH-INTERVAL;VALUE=DURATION:PT1H
X-Robots-Tag:noindex
X-PUBLISHED-TTL:PT1H
BEGIN:VTIMEZONE
TZID:America/New_York
BEGIN:DAYLIGHT
TZOFFSETFROM:-0500
TZOFFSETTO:-0400
TZNAME:EDT
DTSTART:20220313T070000
END:DAYLIGHT
BEGIN:STANDARD
TZOFFSETFROM:-0400
TZOFFSETTO:-0500
TZNAME:EST
DTSTART:20221106T060000
END:STANDARD
BEGIN:DAYLIGHT
TZOFFSETFROM:-0500
TZOFFSETTO:-0400
TZNAME:EDT
DTSTART:20230312T070000
END:DAYLIGHT
BEGIN:STANDARD
TZOFFSETFROM:-0400
TZOFFSETTO:-0500
TZNAME:EST
DTSTART:20231105T060000
END:STANDARD
BEGIN:DAYLIGHT
TZOFFSETFROM:-0500
TZOFFSETTO:-0400
TZNAME:EDT
DTSTART:20240310T070000
END:DAYLIGHT
BEGIN:STANDARD
TZOFFSETFROM:-0400
TZOFFSETTO:-0500
TZNAME:EST
DTSTART:20241103T060000
END:STANDARD
END:VTIMEZONE
BEGIN:VEVENT
DTSTART;VALUE=DATE:20231009
DTEND;VALUE=DATE:20231011
DTSTAMP:20260419T103343
CREATED:20230616T144349Z
LAST-MODIFIED:20230616T144349Z
UID:2831-1696809600-1696982399@nasphq.org
SUMMARY:2023 Consultant Retreat
DESCRIPTION:NASP’s 5th Consultant Retreat will be taking place October 9-10\, 2023\, at the KPMG Lakehouse in Orlando\, FL. This event offers minority-owned and managed Asset Management firms the opportunity to develop strong relationships with consultants and other Allocators in an intimate\, laid-back setting.
URL:https://nasphq.org/event/2023-consultant-retreat/
LOCATION:KPMG Lakehouse\, 9301 Lake Nona Blvd\, Orlando\, FL\, 32827\, United States
ATTACH;FMTTYPE=image/png:https://nasphq.org/wp-content/uploads/2023/06/CR-2023.png
END:VEVENT
END:VCALENDAR